BEGIN:VCALENDAR
VERSION:2.0
PRODID:-//Sourcing Hardware - ECPv6.3.1//NONSGML v1.0//EN
CALSCALE:GREGORIAN
METHOD:PUBLISH
X-WR-CALNAME:Sourcing Hardware
X-ORIGINAL-URL:https://sourcinghardware.net
X-WR-CALDESC:Events for Sourcing Hardware
REFRESH-INTERVAL;VALUE=DURATION:PT1H
X-Robots-Tag:noindex
X-PUBLISHED-TTL:PT1H
BEGIN:VTIMEZONE
TZID:Asia/Kolkata
BEGIN:STANDARD
TZOFFSETFROM:+0530
TZOFFSETTO:+0530
TZNAME:IST
DTSTART:20250101T000000
END:STANDARD
END:VTIMEZONE
BEGIN:VEVENT
DTSTART;TZID=Asia/Kolkata:20251125T090000
DTEND;TZID=Asia/Kolkata:20251128T180000
DTSTAMP:20260426T023653
CREATED:20251009T104701Z
LAST-MODIFIED:20251009T104701Z
UID:34772-1764061200-1764352800@sourcinghardware.net
SUMMARY:HGH INDIA\, Bengaluru
DESCRIPTION:HGH India is India’s well established bi-annual trade show for home textiles\, home décor\, home furniture\, houseware and gifts. Having completed 17 successful editions already\, HGH India connects Indian and international brands\, manufacturers and exporters with retailers\, OEM buyers\, importers\, distributors\, institutional buyers and interior designers in the rapidly growing Indian market. Consistent business results since its inception in 2012 has made HGH India a must attend bi-annual event for everyone with business interest in India’s domestic market for home products.
URL:https://sourcinghardware.net/event/hgh-india-bengaluru/
LOCATION:Bangalore International Exhibition Centre\, 10th Mile\, Tumkur Road\, Bengaluru\, Karnataka\, 562123\, India
CATEGORIES:Exhibition + Conference
ATTACH;FMTTYPE=image/jpeg:https://sourcinghardware.net/wp-content/uploads/2025/10/HGH-India.jpeg
ORGANIZER;CN="Texzone Information Services Pvt. Ltd.":MAILTO:info@texzoneindia.com
END:VEVENT
END:VCALENDAR