BEGIN:VCALENDAR
VERSION:2.0
PRODID:-//Sourcing Hardware - ECPv6.3.1//NONSGML v1.0//EN
CALSCALE:GREGORIAN
METHOD:PUBLISH
X-ORIGINAL-URL:https://sourcinghardware.net
X-WR-CALDESC:Events for Sourcing Hardware
REFRESH-INTERVAL;VALUE=DURATION:PT1H
X-Robots-Tag:noindex
X-PUBLISHED-TTL:PT1H
BEGIN:VTIMEZONE
TZID:Asia/Kolkata
BEGIN:STANDARD
TZOFFSETFROM:+0530
TZOFFSETTO:+0530
TZNAME:IST
DTSTART:20250101T000000
END:STANDARD
END:VTIMEZONE
BEGIN:VEVENT
DTSTART;TZID=Asia/Kolkata:20251204T090000
DTEND;TZID=Asia/Kolkata:20251207T180000
DTSTAMP:20260421T003731
CREATED:20250526T084539Z
LAST-MODIFIED:20250526T084539Z
UID:33994-1764838800-1765130400@sourcinghardware.net
SUMMARY:Zak Doors & Windows Expo\, Mumbai
DESCRIPTION:Zak Doors & Windows Expo is India’s first and only exhibition on Doors\, Windows & Façades. The display profile of the show has a mix of machinery\, systems\, profiles\, cladding products\, façade elements\, accessories & finished products. It has emerged as the most effective marketing medium for manufacturers\, traders and service providers pertaining to the façade and fenestration gamut of India. The event is held concurrently with the Zak Glass Technology Expo which is focused on glass processing technologies & products and Zak Aluminium Extrusions Expo which is dedicated to aluminium extrusions and its allied products. The co-location of these 3 events allows them to derive synergy from each other.
URL:https://sourcinghardware.net/event/zak-doors-windows-expo-mumbai/
LOCATION:Nesco\, Bombay Exhibition Center ( BEC )\, Western Express Highway\, Goregaon East\, Mumbai
CATEGORIES:Exhibition + Conference
ATTACH;FMTTYPE=image/png:https://sourcinghardware.net/wp-content/uploads/2025/05/Zak-Doors-Windows.png
END:VEVENT
BEGIN:VEVENT
DTSTART;TZID=Asia/Kolkata:20251204T090000
DTEND;TZID=Asia/Kolkata:20251207T180000
DTSTAMP:20260421T003731
CREATED:20250526T094833Z
LAST-MODIFIED:20250526T094833Z
UID:33997-1764838800-1765130400@sourcinghardware.net
SUMMARY:ACETECH\, New Delhi
DESCRIPTION:ACETECH Delhi 2025 is a major architecture\, building materials\, and design exhibition in India. It’s known for showcasing the latest trends\, technologies\, and innovations in the industry\, and provides a platform for industry professionals to connect and collaborate. The event features a wide range of exhibitors\, including manufacturers\, material suppliers\, and technology developers.
URL:https://sourcinghardware.net/event/acetech-new-delhi-4/
LOCATION:Bharat Mandapam (Pragati Maidan)\, New Delhi
CATEGORIES:Exhibition + Conference
ATTACH;FMTTYPE=image/png:https://sourcinghardware.net/wp-content/uploads/2025/05/Acetech.png
ORGANIZER;CN="ABEC Exhibitions & Conferences Ltd":MAILTO:marketing@abec.asia
END:VEVENT
END:VCALENDAR