BEGIN:VCALENDAR
VERSION:2.0
PRODID:-//Sourcing Hardware - ECPv6.3.1//NONSGML v1.0//EN
CALSCALE:GREGORIAN
METHOD:PUBLISH
X-ORIGINAL-URL:https://sourcinghardware.net
X-WR-CALDESC:Events for Sourcing Hardware
REFRESH-INTERVAL;VALUE=DURATION:PT1H
X-Robots-Tag:noindex
X-PUBLISHED-TTL:PT1H
BEGIN:VTIMEZONE
TZID:Asia/Kolkata
BEGIN:STANDARD
TZOFFSETFROM:+0530
TZOFFSETTO:+0530
TZNAME:IST
DTSTART:20250101T000000
END:STANDARD
END:VTIMEZONE
BEGIN:VEVENT
DTSTART;TZID=Asia/Kolkata:20250227T100000
DTEND;TZID=Asia/Kolkata:20250228T180000
DTSTAMP:20260421T043115
CREATED:20241004T062537Z
LAST-MODIFIED:20241004T062537Z
UID:32078-1740650400-1740765600@sourcinghardware.net
SUMMARY:Retail Leadership Summit\, Mumbai
DESCRIPTION:The Retail Leadership Summit (RLS)\, organised by the Retailers Association of India\, is the pinnacle of knowledge exchange in the retail industry\, attracting over 1\,500 attendees\, 800+ pioneering brands\, and 175+ insightful speakers.
URL:https://sourcinghardware.net/event/retail-leadership-summit-mumbai/
LOCATION:Mumbai Exhibition Centre\, Mumbai\, India
CATEGORIES:Conference
ATTACH;FMTTYPE=image/jpeg:https://sourcinghardware.net/wp-content/uploads/2024/10/RLS-1.jpg
ORGANIZER;CN="Retailers Association of India (RAI)":MAILTO:info@rai.net.in
END:VEVENT
END:VCALENDAR