BEGIN:VCALENDAR
VERSION:2.0
PRODID:-//Sourcing Hardware - ECPv6.3.1//NONSGML v1.0//EN
CALSCALE:GREGORIAN
METHOD:PUBLISH
X-WR-CALNAME:Sourcing Hardware
X-ORIGINAL-URL:https://sourcinghardware.net
X-WR-CALDESC:Events for Sourcing Hardware
REFRESH-INTERVAL;VALUE=DURATION:PT1H
X-Robots-Tag:noindex
X-PUBLISHED-TTL:PT1H
BEGIN:VTIMEZONE
TZID:UTC
BEGIN:STANDARD
TZOFFSETFROM:+0000
TZOFFSETTO:+0000
TZNAME:UTC
DTSTART:20240101T000000
END:STANDARD
END:VTIMEZONE
BEGIN:VEVENT
DTSTART;TZID=UTC:20240404T090000
DTEND;TZID=UTC:20240404T170000
DTSTAMP:20260426T091404
CREATED:20240201T020227Z
LAST-MODIFIED:20240319T113733Z
UID:31128-1712221200-1712250000@sourcinghardware.net
SUMMARY:India Kitchen Congress 2024\, New Delhi
DESCRIPTION:India Kitchen Congress\, the annual industry conference\, will present strategies for the kitchen & cabinetry business in India. \nRegister below as a delegate to confirm your seat. \n\nRegular Delegate: Rs 4\,950.00 per person plus GST 18% \nFFSC/AFMT/MFMA Member Delegate: Rs 4\,450.00 per person plus GST 18% \n 
URL:https://sourcinghardware.net/event/india-kitchen-congress-new-delhi/
LOCATION:Le Meridien Hotel\, New Delhi\, Windsor Place\, Janpath\, New Delhi\, Delhi\, 110001\, India
CATEGORIES:Conference
ATTACH;FMTTYPE=image/png:https://sourcinghardware.net/wp-content/uploads/2024/02/Linkedin-banner-1128x191-1.png
ORGANIZER;CN="Bracecorp Technologies Pvt Ltd":MAILTO:info@bracecorp.net
END:VEVENT
END:VCALENDAR