BEGIN:VCALENDAR
VERSION:2.0
PRODID:-//Sourcing Hardware - ECPv6.3.1//NONSGML v1.0//EN
CALSCALE:GREGORIAN
METHOD:PUBLISH
X-ORIGINAL-URL:https://sourcinghardware.net
X-WR-CALDESC:Events for Sourcing Hardware
REFRESH-INTERVAL;VALUE=DURATION:PT1H
X-Robots-Tag:noindex
X-PUBLISHED-TTL:PT1H
BEGIN:VTIMEZONE
TZID:Asia/Kolkata
BEGIN:STANDARD
TZOFFSETFROM:+0530
TZOFFSETTO:+0530
TZNAME:IST
DTSTART:20250101T000000
END:STANDARD
END:VTIMEZONE
BEGIN:VEVENT
DTSTART;TZID=Asia/Kolkata:20250620T090000
DTEND;TZID=Asia/Kolkata:20250622T180000
DTSTAMP:20260422T154234
CREATED:20250108T061431Z
LAST-MODIFIED:20250108T061431Z
UID:32469-1750410000-1750615200@sourcinghardware.net
SUMMARY:India Intex Expo\, Coimbatore
DESCRIPTION:The Intex Expo is a trade fair in India that focuses on the architecture\, building materials\, interior and exterior\, art\, and design industries. The expo aims to provide opportunities for networking\, brand visibility\, increased sales\, and guaranteed returns on investment. \nThe expo will feature national and international brands\, architects\, builders\, real estate developers\, engineers\, designers\, and equity investors.
URL:https://sourcinghardware.net/event/india-intex-expo-coimbatore/
LOCATION:Codissia Trade Fair Complex\, Coimbatore\, Tamil Nadu
CATEGORIES:Trade Fair
ATTACH;FMTTYPE=image/png:https://sourcinghardware.net/wp-content/uploads/2025/01/india-intex.png
ORGANIZER;CN="United Trade Fairs India Pvt Ltd":MAILTO:info@unitedtradefairs.com
END:VEVENT
END:VCALENDAR