BEGIN:VCALENDAR
VERSION:2.0
PRODID:-//Sourcing Hardware - ECPv6.3.1//NONSGML v1.0//EN
CALSCALE:GREGORIAN
METHOD:PUBLISH
X-ORIGINAL-URL:https://sourcinghardware.net
X-WR-CALDESC:Events for Sourcing Hardware
REFRESH-INTERVAL;VALUE=DURATION:PT1H
X-Robots-Tag:noindex
X-PUBLISHED-TTL:PT1H
BEGIN:VTIMEZONE
TZID:Asia/Kolkata
BEGIN:STANDARD
TZOFFSETFROM:+0530
TZOFFSETTO:+0530
TZNAME:IST
DTSTART:20250101T000000
END:STANDARD
END:VTIMEZONE
BEGIN:VEVENT
DTSTART;TZID=Asia/Kolkata:20250520T090000
DTEND;TZID=Asia/Kolkata:20250523T180000
DTSTAMP:20260423T105443
CREATED:20241106T122925Z
LAST-MODIFIED:20241106T122925Z
UID:32237-1747731600-1748023200@sourcinghardware.net
SUMMARY:Interzum\, Cologne
DESCRIPTION:interzum is the leading global event for the furniture and interior construction industries’ supplying sections. This is where the trends and visions that will create future living spaces using modern materials\, outstanding design\, and exclusive innovations come to life. \nOne of the key features of this trade fair is the highly international character of the exhibitors. The trade fair not only connects the local markets\, but it also drives internationalization in the areas of furniture production and interior fittings. \ninterzum is also source of inspiration for product developers\, designers\, and architects. Its comprehensive supporting program\, complete with the bestowing of the renowned interzum awards\, offers no end of stimulation.
URL:https://sourcinghardware.net/event/interzum-cologne/
LOCATION:Cologne\, Germany
CATEGORIES:Trade Fair
ATTACH;FMTTYPE=image/png:https://sourcinghardware.net/wp-content/uploads/2024/11/Interzum.png
ORGANIZER;CN="Koelnmesse GmbH":MAILTO:info@koelnmesse.de
END:VEVENT
END:VCALENDAR