BEGIN:VCALENDAR
VERSION:2.0
PRODID:-//Sourcing Hardware - ECPv6.3.1//NONSGML v1.0//EN
CALSCALE:GREGORIAN
METHOD:PUBLISH
X-ORIGINAL-URL:https://sourcinghardware.net
X-WR-CALDESC:Events for Sourcing Hardware
REFRESH-INTERVAL;VALUE=DURATION:PT1H
X-Robots-Tag:noindex
X-PUBLISHED-TTL:PT1H
BEGIN:VTIMEZONE
TZID:Asia/Kolkata
BEGIN:STANDARD
TZOFFSETFROM:+0530
TZOFFSETTO:+0530
TZNAME:IST
DTSTART:20230101T000000
END:STANDARD
END:VTIMEZONE
BEGIN:VEVENT
DTSTART;TZID=Asia/Kolkata:20230112T090000
DTEND;TZID=Asia/Kolkata:20230115T180000
DTSTAMP:20260424T113213
CREATED:20221204T111518Z
LAST-MODIFIED:20221204T111518Z
UID:24169-1673514000-1673805600@sourcinghardware.net
SUMMARY:Domotex Germany
DESCRIPTION:DOMOTEX is the world’s leading trade fair for carpet and floor coverings in Hannover. From 12 to 15 January\, the upcoming event will once again offer numerous highlights in all product segments. \nDOMOTEX 2023 will feature creative installations\, presentations of sustainable products and an exciting conference program. \n 
URL:https://sourcinghardware.net/event/domotex-germany/
LOCATION:Messegelände\, Hannover\, 30521\, Germany
CATEGORIES:Trade Fair
ATTACH;FMTTYPE=image/jpeg:https://sourcinghardware.net/wp-content/uploads/2022/12/Domotex-dt13_logo_col-e1670152488628-1.jpg
END:VEVENT
END:VCALENDAR