BEGIN:VCALENDAR
VERSION:2.0
PRODID:-//Sourcing Hardware - ECPv6.3.1//NONSGML v1.0//EN
CALSCALE:GREGORIAN
METHOD:PUBLISH
X-ORIGINAL-URL:https://sourcinghardware.net
X-WR-CALDESC:Events for Sourcing Hardware
REFRESH-INTERVAL;VALUE=DURATION:PT1H
X-Robots-Tag:noindex
X-PUBLISHED-TTL:PT1H
BEGIN:VTIMEZONE
TZID:Asia/Kolkata
BEGIN:STANDARD
TZOFFSETFROM:+0530
TZOFFSETTO:+0530
TZNAME:IST
DTSTART:20230101T000000
END:STANDARD
END:VTIMEZONE
BEGIN:VEVENT
DTSTART;TZID=Asia/Kolkata:20230223T120000
DTEND;TZID=Asia/Kolkata:20230226T210000
DTSTAMP:20260424T000742
CREATED:20221120T162849Z
LAST-MODIFIED:20221120T162849Z
UID:24039-1677153600-1677445200@sourcinghardware.net
SUMMARY:INDIA DESIGN ID 2023 New Delhi
DESCRIPTION:India Design ID\, the country’s best luxury design week\, returns every February at New Delhi’s sprawling NSIC Grounds in Okhla. Witness the largest congregation of the best in design\, architecture and interiors. \nAt the India Design ID Exhibit\, held over five action-packed days\, you will witness specially-curated displays and signature collections across furniture\, lighting\, interiors\, kitchens\, accessories\, flooring and home technology from the most stylish and talked-about local and international brands in the industry.
URL:https://sourcinghardware.net/event/india-design-id-2023-new-delhi/
LOCATION:NSIC Exhibition Ground\, NSIC Estate\, Okhla III\, Okhla Industrial Estate\, New Delhi\, Delhi\, 110020\, India
CATEGORIES:Exhibition + Conference
ATTACH;FMTTYPE=image/jpeg:https://sourcinghardware.net/wp-content/uploads/2022/11/India-Design-ID-2023-scaled-e1668961509195-1.jpg
ORGANIZER;CN="Ogaan Media Pvt Ltd":MAILTO:id@ogaan.co.in
END:VEVENT
END:VCALENDAR