BEGIN:VCALENDAR
VERSION:2.0
PRODID:-//Sourcing Hardware - ECPv6.3.1//NONSGML v1.0//EN
CALSCALE:GREGORIAN
METHOD:PUBLISH
X-ORIGINAL-URL:https://sourcinghardware.net
X-WR-CALDESC:Events for Sourcing Hardware
REFRESH-INTERVAL;VALUE=DURATION:PT1H
X-Robots-Tag:noindex
X-PUBLISHED-TTL:PT1H
BEGIN:VTIMEZONE
TZID:Asia/Kolkata
BEGIN:STANDARD
TZOFFSETFROM:+0530
TZOFFSETTO:+0530
TZNAME:IST
DTSTART:20230101T000000
END:STANDARD
END:VTIMEZONE
BEGIN:VEVENT
DTSTART;TZID=Asia/Kolkata:20230601T100000
DTEND;TZID=Asia/Kolkata:20230603T180000
DTSTAMP:20260426T073201
CREATED:20221209T114312Z
LAST-MODIFIED:20221209T114312Z
UID:24217-1685613600-1685815200@sourcinghardware.net
SUMMARY:In-store Asia 2023 Mumbai
DESCRIPTION:In-Store Asia is the largest trade fair in the Indian subcontinent for retail resources and investments in store design\, VM and in-store marketing. \nIt is the largest gathering of senior decision makers from 7500+ retail and brand companies\, consultants\, service providers and manufacturers in this domain.
URL:https://sourcinghardware.net/event/in-store-asia-2023-mumbai/
LOCATION:Jio World Convention Centre\, BKC\, Bandra Kurla Complex\, Mumbai\, Maharashtra\, 400 098\, India
CATEGORIES:Awards,Exhibition + Conference
ATTACH;FMTTYPE=image/png:https://sourcinghardware.net/wp-content/uploads/2022/12/In-Store_Asia-logo-e1670586148362-1.png
END:VEVENT
END:VCALENDAR